BEGIN:VCALENDAR
VERSION:2.0
PRODID:DPCALENDAR
CALSCALE:GREGORIAN
BEGIN:VTIMEZONE
TZID:Europe/Berlin
X-MICROSOFT-CDO-TZID:4
BEGIN:STANDARD
DTSTART:20251026T010000
TZOFFSETFROM:+0200
TZOFFSETTO:+0100
TZNAME:CET
END:STANDARD
BEGIN:STANDARD
DTSTART:20261025T010000
TZOFFSETFROM:+0200
TZOFFSETTO:+0100
TZNAME:CET
END:STANDARD
BEGIN:DAYLIGHT
DTSTART:20260329T010000
TZOFFSETFROM:+0100
TZOFFSETTO:+0200
TZNAME:CEST
END:DAYLIGHT
END:VTIMEZONE
X-WR-TIMEZONE:Europe/Berlin
BEGIN:VEVENT
DTSTART;TZID=Europe/Berlin:20251022T183000
DTEND;TZID=Europe/Berlin:20251022T200000
UID:D566BA24-2B1A-45BF-8197-03AC2F8A70A8
SUMMARY:Krav Maga: ab 15 Jahre (Ferien)
CREATED:20250812T214303Z
DTSTAMP:20250812T214303Z
URL:https://www.kodokan.info/index.php/component/dpcalendar/event/4326?calid=79
DESCRIPTION:realistische Selbstverteidigung ab 15 Jahre
X-ALT-DESC;FMTTYPE=text/html:<p>realistische Selbstverteidigung ab 15 Jahre</p>
LAST-MODIFIED:20251012T170038Z
SEQUENCE:5253455
LOCATION:Am Exerzierplatz 28\, 22844 Norderstedt\, Schleswig-Holstein\, Deutschland
GEO:53.70069600;10.01187370
X-LOCATION-DISPLAYNAME:Dojo 3
X-ACCESS:1
X-HITS:60
X-COLOR:5d45e6
X-SHOW-END-TIME:1
END:VEVENT
BEGIN:VEVENT
DTSTART;TZID=Europe/Berlin:20251027T183000
DTEND;TZID=Europe/Berlin:20251027T200000
UID:79C939F7-8CC8-4162-B68F-375624C34C3F
SUMMARY:Krav Maga: ab 15 Jahre (Ferien)
CREATED:20250812T214303Z
DTSTAMP:20250812T214303Z
URL:https://www.kodokan.info/index.php/component/dpcalendar/event/4328?calid=79
DESCRIPTION:realistische Selbstverteidigung ab 15 Jahre
X-ALT-DESC;FMTTYPE=text/html:<p>realistische Selbstverteidigung ab 15 Jahre</p>
LAST-MODIFIED:20251012T170421Z
SEQUENCE:5253678
LOCATION:Am Exerzierplatz 28\, 22844 Norderstedt\, Schleswig-Holstein\, Deutschland
GEO:53.70069600;10.01187370
X-LOCATION-DISPLAYNAME:Dojo 3
X-ACCESS:1
X-HITS:193
X-COLOR:5d45e6
X-SHOW-END-TIME:1
END:VEVENT
BEGIN:VEVENT
DTSTART;TZID=Europe/Berlin:20251029T183000
DTEND;TZID=Europe/Berlin:20251029T200000
UID:F70EFA47-C41B-4544-A184-D2DF21D56A16
SUMMARY:Krav Maga: ab 15 Jahre (Ferien)
CREATED:20250812T214303Z
DTSTAMP:20250812T214303Z
URL:https://www.kodokan.info/index.php/component/dpcalendar/event/4327?calid=79
DESCRIPTION:realistische Selbstverteidigung ab 15 Jahre
X-ALT-DESC;FMTTYPE=text/html:<p>realistische Selbstverteidigung ab 15 Jahre</p>
LAST-MODIFIED:20251012T170139Z
SEQUENCE:5253516
LOCATION:Am Exerzierplatz 28\, 22844 Norderstedt\, Schleswig-Holstein\, Deutschland
GEO:53.70069600;10.01187370
X-LOCATION-DISPLAYNAME:Dojo 3
X-ACCESS:1
X-HITS:81
X-COLOR:5d45e6
X-SHOW-END-TIME:1
END:VEVENT
BEGIN:VEVENT
DTSTART;TZID=Europe/Berlin:20251030T183000
DTEND;TZID=Europe/Berlin:20251030T200000
UID:C70B43D7-BA99-4E7B-8735-917CBADBDE66
SUMMARY:Krav Maga: ab 15 Jahre (Ferien)
CREATED:20250812T214303Z
DTSTAMP:20250812T214303Z
URL:https://www.kodokan.info/index.php/component/dpcalendar/event/4329?calid=79
DESCRIPTION:realistische Selbstverteidigung ab 15 Jahre
X-ALT-DESC;FMTTYPE=text/html:<p>realistische Selbstverteidigung ab 15 Jahre</p>
LAST-MODIFIED:20251012T170440Z
SEQUENCE:5253697
LOCATION:Am Exerzierplatz 28\, 22844 Norderstedt\, Schleswig-Holstein\, Deutschland
GEO:53.70069600;10.01187370
X-LOCATION-DISPLAYNAME:Dojo 3
X-ACCESS:1
X-HITS:73
X-COLOR:5d45e6
X-SHOW-END-TIME:1
END:VEVENT
END:VCALENDAR