BEGIN:VCALENDAR
VERSION:2.0
PRODID:DPCALENDAR
CALSCALE:GREGORIAN
BEGIN:VTIMEZONE
TZID:Europe/Berlin
X-MICROSOFT-CDO-TZID:4
BEGIN:STANDARD
DTSTART:20251026T010000
TZOFFSETFROM:+0200
TZOFFSETTO:+0100
TZNAME:CET
END:STANDARD
BEGIN:STANDARD
DTSTART:20261025T010000
TZOFFSETFROM:+0200
TZOFFSETTO:+0100
TZNAME:CET
END:STANDARD
BEGIN:DAYLIGHT
DTSTART:20260329T010000
TZOFFSETFROM:+0100
TZOFFSETTO:+0200
TZNAME:CEST
END:DAYLIGHT
END:VTIMEZONE
X-WR-TIMEZONE:Europe/Berlin
BEGIN:VEVENT
DTSTART;TZID=Europe/Berlin:20251020T180000
DTEND;TZID=Europe/Berlin:20251020T200000
RRULE:FREQ=WEEKLY;INTERVAL=1;UNTIL=20251031T235900Z
UID:F162B1BD-E76A-4217-ACC9-811462FBB5EA
SUMMARY:Ju-Jutsu: ab 12 Jahre (Wettkampf) (Ferien)
CREATED:20250813T123821Z
DTSTAMP:20250813T123821Z
URL:https://www.kodokan.info/index.php/component/dpcalendar/event/4333?calid=78
LAST-MODIFIED:20251013T174648Z
SEQUENCE:5288907
LOCATION:Am Exerzierplatz 28\, 22844 Norderstedt\, Schleswig-Holstein\, Deutschland
GEO:53.70069600;10.01187370
X-LOCATION-DISPLAYNAME:Dojo 1
X-ACCESS:1
X-HITS:2
X-COLOR:1a00ff
X-SHOW-END-TIME:1
END:VEVENT
BEGIN:VEVENT
DTSTART;TZID=Europe/Berlin:20251020T200000
DTEND;TZID=Europe/Berlin:20251020T213000
RRULE:FREQ=WEEKLY;INTERVAL=1;UNTIL=20251031T235900Z
UID:6CE837B4-E65B-4692-BDBC-1F0735466433
SUMMARY:Ju-Jutsu: ab 15 Jahre (Technik) (Ferien)
CREATED:20250813T123821Z
DTSTAMP:20250813T123821Z
URL:https://www.kodokan.info/index.php/component/dpcalendar/event/4336?calid=78
LAST-MODIFIED:20251013T174532Z
SEQUENCE:5288831
LOCATION:Am Exerzierplatz 28\, 22844 Norderstedt\, Schleswig-Holstein\, Deutschland
GEO:53.70069600;10.01187370
X-LOCATION-DISPLAYNAME:Dojo 1
X-ACCESS:1
X-HITS:2
X-COLOR:1a00ff
X-SHOW-END-TIME:1
END:VEVENT
BEGIN:VEVENT
DTSTART;TZID=Europe/Berlin:20251022T170000
DTEND;TZID=Europe/Berlin:20251022T180000
RRULE:FREQ=WEEKLY;INTERVAL=1;UNTIL=20251030T235900Z
UID:29C7C179-9ADE-43BF-AC46-0E29B5BC9DAD
SUMMARY:Ju-Jutsu: 9-12 Jahre (Kids) (Ferien)
CREATED:20250813T131506Z
DTSTAMP:20250813T131506Z
URL:https://www.kodokan.info/index.php/component/dpcalendar/event/4339?calid=78
LAST-MODIFIED:20251020T092011Z
SEQUENCE:5861105
LOCATION:Am Exerzierplatz 28\, 22844 Norderstedt\, Schleswig-Holstein\, Deutschland
GEO:53.70069600;10.01187370
X-LOCATION-DISPLAYNAME:Dojo 1
X-ACCESS:1
X-HITS:3
X-COLOR:1a00ff
X-SHOW-END-TIME:1
END:VEVENT
BEGIN:VEVENT
DTSTART;TZID=Europe/Berlin:20251022T180000
DTEND;TZID=Europe/Berlin:20251022T193000
RRULE:FREQ=WEEKLY;INTERVAL=1;UNTIL=20251030T235900Z
UID:6B6B23DB-FA0F-4F63-9B09-6CC5D6220E9A
SUMMARY:Ju-Jutsu: 12-15 Jahre (Jugend) (Ferien)
CREATED:20251013T182117Z
DTSTAMP:20251013T182117Z
URL:https://www.kodokan.info/index.php/component/dpcalendar/event/4342?calid=78
LAST-MODIFIED:20251013T182145Z
SEQUENCE:28
LOCATION:Am Exerzierplatz 28\, 22844 Norderstedt\, Schleswig-Holstein\, Deutschland
GEO:53.70069600;10.01187370
X-LOCATION-DISPLAYNAME:Dojo 2
X-ACCESS:1
X-HITS:2
X-COLOR:1a00ff
X-SHOW-END-TIME:1
END:VEVENT
BEGIN:VEVENT
DTSTART;TZID=Europe/Berlin:20251022T200000
DTEND;TZID=Europe/Berlin:20251022T213000
RRULE:FREQ=WEEKLY;INTERVAL=1;UNTIL=20251024T235900Z
UID:4C471BCE-8031-4C46-92F0-7BD75E6F6C89
SUMMARY:Ju-Jutsu: ab 15 Jahre (Technik) (Ferien)
CREATED:20251013T182445Z
DTSTAMP:20251013T182445Z
URL:https://www.kodokan.info/index.php/component/dpcalendar/event/4348?calid=78
LAST-MODIFIED:20251013T182445Z
SEQUENCE:0
LOCATION:Am Exerzierplatz 28\, 22844 Norderstedt\, Schleswig-Holstein\, Deutschland
GEO:53.70069600;10.01187370
X-LOCATION-DISPLAYNAME:Dojo 1
X-ACCESS:1
X-HITS:2
X-COLOR:1a00ff
X-SHOW-END-TIME:1
END:VEVENT
BEGIN:VEVENT
DTSTART;TZID=Europe/Berlin:20251023T190000
DTEND;TZID=Europe/Berlin:20251023T200000
RRULE:FREQ=WEEKLY;INTERVAL=1;UNTIL=20251030T235900Z
UID:1C1E447A-E783-4D1B-AC21-B3C2F4B14A78
SUMMARY:Ju-Jutsu: ab 12 Jahre (Fighting) (Ferien)
CREATED:20251013T182822Z
DTSTAMP:20251013T182822Z
URL:https://www.kodokan.info/index.php/component/dpcalendar/event/4350?calid=78
LAST-MODIFIED:20251013T183333Z
SEQUENCE:311
LOCATION:Am Exerzierplatz 28\, 22844 Norderstedt\, Schleswig-Holstein\, Deutschland
GEO:53.70069600;10.01187370
X-LOCATION-DISPLAYNAME:Dojo 1
X-ACCESS:1
X-HITS:2
X-COLOR:1a00ff
X-SHOW-END-TIME:1
END:VEVENT
BEGIN:VEVENT
DTSTART;TZID=Europe/Berlin:20251030T190000
DTEND;TZID=Europe/Berlin:20251030T200000
UID:1C1E447A-E783-4D1B-AC21-B3C2F4B14A78
RECURRENCE-ID:20251030T180000Z
SUMMARY:Ju-Jutsu: ab 12 Jahre (Fighting) (Ferien)
CREATED:20251013T182822Z
DTSTAMP:20251013T182822Z
URL:https://www.kodokan.info/index.php/component/dpcalendar/event/4356?calid=78
LAST-MODIFIED:20251013T183757Z
SEQUENCE:575
LOCATION:Am Exerzierplatz 28\, 22844 Norderstedt\, Schleswig-Holstein\, Deutschland
GEO:53.70069600;10.01187370
X-LOCATION-DISPLAYNAME:Dojo 3
X-ACCESS:1
X-HITS:76
X-COLOR:1a00ff
X-SHOW-END-TIME:1
END:VEVENT
BEGIN:VEVENT
DTSTART;TZID=Europe/Berlin:20251024T180000
DTEND;TZID=Europe/Berlin:20251024T193000
UID:B564BD6F-B972-429F-9D67-458CA315E097
SUMMARY:Ju-Jutsu: ab 6 Jahre (Eltern & Kind) (Ferien)
CREATED:20250813T143821Z
DTSTAMP:20250813T143821Z
URL:https://www.kodokan.info/index.php/component/dpcalendar/event/4357?calid=78
DESCRIPTION:Jugendliche, Erwachsene & Eltern & Kind\Nab 6 Jahre (Kinder bis 12 Jahre in Begleitung eines Erwachsenen)
X-ALT-DESC;FMTTYPE=text/html:<p>Jugendliche, Erwachsene &amp; Eltern &amp; Kind</p><p>ab 6 Jahre&nbsp;(Kinder bis 12 Jahre in Begleitung eines Erwachsenen)</p>
LAST-MODIFIED:20251020T092051Z
SEQUENCE:5856150
LOCATION:Am Exerzierplatz 28\, 22844 Norderstedt\, Schleswig-Holstein\, Deutschland
GEO:53.70069600;10.01187370
X-LOCATION-DISPLAYNAME:Dojo 2-3
X-ACCESS:1
X-HITS:60
X-COLOR:1a00ff
X-SHOW-END-TIME:1
END:VEVENT
BEGIN:VEVENT
DTSTART;TZID=Europe/Berlin:20251029T200000
DTEND;TZID=Europe/Berlin:20251029T213000
UID:13480374-00AE-48D7-A18B-12273E336773
SUMMARY:Ju-Jutsu: Best Agers (Ferien)
CREATED:20251027T085357Z
DTSTAMP:20251027T085357Z
URL:https://www.kodokan.info/index.php/component/dpcalendar/event/4720?calid=78
LAST-MODIFIED:20251027T085357Z
SEQUENCE:0
LOCATION:Am Exerzierplatz 28\, 22844 Norderstedt\, Schleswig-Holstein\, Deutschland
GEO:53.70069600;10.01187370
X-LOCATION-DISPLAYNAME:Dojo 1
X-ACCESS:1
X-HITS:78
X-COLOR:1a00ff
X-SHOW-END-TIME:1
END:VEVENT
END:VCALENDAR