BEGIN:VCALENDAR
VERSION:2.0
PRODID:DPCALENDAR
CALSCALE:GREGORIAN
BEGIN:VTIMEZONE
TZID:Europe/Berlin
X-MICROSOFT-CDO-TZID:4
BEGIN:STANDARD
DTSTART:20251026T010000
TZOFFSETFROM:+0200
TZOFFSETTO:+0100
TZNAME:CET
END:STANDARD
BEGIN:STANDARD
DTSTART:20261025T010000
TZOFFSETFROM:+0200
TZOFFSETTO:+0100
TZNAME:CET
END:STANDARD
BEGIN:DAYLIGHT
DTSTART:20260329T010000
TZOFFSETFROM:+0100
TZOFFSETTO:+0200
TZNAME:CEST
END:DAYLIGHT
END:VTIMEZONE
X-WR-TIMEZONE:Europe/Berlin
BEGIN:VEVENT
DTSTART;TZID=Europe/Berlin:20251021T200000
DTEND;TZID=Europe/Berlin:20251021T213000
RRULE:FREQ=WEEKLY;INTERVAL=1;UNTIL=20251030T235900Z
UID:DA7A2277-B151-419E-8495-D0ABC9DC8B3D
SUMMARY:Free Athletics: ab 15 Jahre (Ferien)
CREATED:20251013T185729Z
DTSTAMP:20251013T185729Z
URL:https://www.kodokan.info/index.php/component/dpcalendar/event/4358?calid=77
LAST-MODIFIED:20251020T091918Z
SEQUENCE:570109
LOCATION:Aurikelstieg 13\, 22850 Norderstedt\, Schleswig-Holstein\, Deutschland
GEO:53.69244630;9.99107570
X-LOCATION-DISPLAYNAME:Sporthalle
X-ACCESS:1
X-HITS:2
X-COLOR:8896eb
X-SHOW-END-TIME:1
END:VEVENT
BEGIN:VEVENT
DTSTART;TZID=Europe/Berlin:20251030T200000
DTEND;TZID=Europe/Berlin:20251030T213000
UID:640CE611-222B-41FB-A0C8-A8E526F0911F
SUMMARY:Free Athletics: ab 15 Jahre (Ferien)
CREATED:20251013T185834Z
DTSTAMP:20251013T185834Z
URL:https://www.kodokan.info/index.php/component/dpcalendar/event/4361?calid=77
LAST-MODIFIED:20251020T092141Z
SEQUENCE:570187
LOCATION:Aurikelstieg 13\, 22850 Norderstedt\, Schleswig-Holstein\, Deutschland
GEO:53.69244630;9.99107570
X-LOCATION-DISPLAYNAME:Sporthalle
X-ACCESS:1
X-HITS:84
X-COLOR:8896eb
X-SHOW-END-TIME:1
END:VEVENT
END:VCALENDAR