BEGIN:VCALENDAR
VERSION:2.0
PRODID:DPCALENDAR
CALSCALE:GREGORIAN
BEGIN:VTIMEZONE
TZID:Europe/Berlin
X-MICROSOFT-CDO-TZID:4
BEGIN:STANDARD
DTSTART:20251026T010000
TZOFFSETFROM:+0200
TZOFFSETTO:+0100
TZNAME:CET
END:STANDARD
BEGIN:STANDARD
DTSTART:20261025T010000
TZOFFSETFROM:+0200
TZOFFSETTO:+0100
TZNAME:CET
END:STANDARD
BEGIN:DAYLIGHT
DTSTART:20260329T010000
TZOFFSETFROM:+0100
TZOFFSETTO:+0200
TZNAME:CEST
END:DAYLIGHT
END:VTIMEZONE
X-WR-TIMEZONE:Europe/Berlin
BEGIN:VEVENT
DTSTART;TZID=Europe/Berlin:20251021T183000
DTEND;TZID=Europe/Berlin:20251021T193000
RRULE:FREQ=WEEKLY;INTERVAL=1;UNTIL=20251028T235900Z
UID:232B9610-60E2-4757-8811-F6D9987B18D8
SUMMARY:BJJ: Grappling - BJJ - Beginners (Ferien)
CREATED:20250813T125717Z
DTSTAMP:20250813T125717Z
URL:https://www.kodokan.info/index.php/component/dpcalendar/event/4310?calid=76
LAST-MODIFIED:20251012T122652Z
SEQUENCE:5182175
LOCATION:Am Exerzierplatz 28\, 22844 Norderstedt\, Schleswig-Holstein\, Deutschland
GEO:53.70069600;10.01187370
X-LOCATION-DISPLAYNAME:Dojo 2-3
X-ACCESS:1
X-HITS:2
X-COLOR:00eeff
X-SHOW-END-TIME:1
END:VEVENT
BEGIN:VEVENT
DTSTART;TZID=Europe/Berlin:20251021T193000
DTEND;TZID=Europe/Berlin:20251021T210000
RRULE:FREQ=WEEKLY;INTERVAL=1;UNTIL=20251031T235900Z
UID:53B44DEB-AA22-4EEC-828E-1782BF2CB2EA
SUMMARY:BJJ: Grappling - BJJ - Advanced (Ferien)
CREATED:20250813T125717Z
DTSTAMP:20250813T125717Z
URL:https://www.kodokan.info/index.php/component/dpcalendar/event/4313?calid=76
LAST-MODIFIED:20251012T124256Z
SEQUENCE:5183139
LOCATION:Am Exerzierplatz 28\, 22844 Norderstedt\, Schleswig-Holstein\, Deutschland
GEO:53.70069600;10.01187370
X-LOCATION-DISPLAYNAME:Dojo 2-3
X-ACCESS:1
X-HITS:2
X-COLOR:00eeff
X-SHOW-END-TIME:1
END:VEVENT
BEGIN:VEVENT
DTSTART;TZID=Europe/Berlin:20251023T180000
DTEND;TZID=Europe/Berlin:20251023T190000
RRULE:FREQ=WEEKLY;INTERVAL=1;UNTIL=20251031T235900Z
UID:3335E8CD-3617-455D-A57A-12EC3D986835
SUMMARY:BJJ: 9-15 Jahre (Grappling - BJJ - Ne-Waza) (Ferien)
CREATED:20250813T142643Z
DTSTAMP:20250813T142643Z
URL:https://www.kodokan.info/index.php/component/dpcalendar/event/4319?calid=76
LAST-MODIFIED:20251013T190656Z
SEQUENCE:5287213
LOCATION:Am Exerzierplatz 28\, 22844 Norderstedt\, Schleswig-Holstein\, Deutschland
GEO:53.70069600;10.01187370
X-LOCATION-DISPLAYNAME:Dojo 2-3
X-ACCESS:1
X-HITS:2
X-COLOR:00eeff
X-SHOW-END-TIME:1
END:VEVENT
BEGIN:VEVENT
DTSTART;TZID=Europe/Berlin:20251023T190000
DTEND;TZID=Europe/Berlin:20251023T210000
RRULE:FREQ=WEEKLY;INTERVAL=1;UNTIL=20251031T235900Z
UID:D247505E-4BA7-4397-BACC-38167DA390AB
SUMMARY:BJJ: Grappling - BJJ - Ne-Waza (Ferien)
CREATED:20250813T142957Z
DTSTAMP:20250813T142957Z
URL:https://www.kodokan.info/index.php/component/dpcalendar/event/4322?calid=76
LAST-MODIFIED:20251012T130355Z
SEQUENCE:5178838
LOCATION:Am Exerzierplatz 28\, 22844 Norderstedt\, Schleswig-Holstein\, Deutschland
GEO:53.70069600;10.01187370
X-LOCATION-DISPLAYNAME:Dojo 2
X-ACCESS:1
X-HITS:2
X-COLOR:00eeff
X-SHOW-END-TIME:1
END:VEVENT
BEGIN:VEVENT
DTSTART;TZID=Europe/Berlin:20251026T110000
DTEND;TZID=Europe/Berlin:20251026T130000
RRULE:FREQ=WEEKLY;INTERVAL=1;UNTIL=20251102T235900Z
UID:93B2D438-043D-4DCC-A257-C4EB162CBB2C
SUMMARY:BJJ: Grappling - BJJ - Ne-Waza (Ferien)
CREATED:20250813T144456Z
DTSTAMP:20250813T144456Z
URL:https://www.kodokan.info/index.php/component/dpcalendar/event/4325?calid=76
LAST-MODIFIED:20251012T170806Z
SEQUENCE:5192590
LOCATION:Am Exerzierplatz 28\, 22844 Norderstedt\, Schleswig-Holstein\, Deutschland
GEO:53.70069600;10.01187370
X-LOCATION-DISPLAYNAME:Dojo 1-3
X-ACCESS:1
X-HITS:38
X-COLOR:00eeff
X-SHOW-END-TIME:1
END:VEVENT
END:VCALENDAR