BEGIN:VCALENDAR
VERSION:2.0
PRODID:DPCALENDAR
CALSCALE:GREGORIAN
BEGIN:VTIMEZONE
TZID:Europe/Berlin
X-MICROSOFT-CDO-TZID:4
BEGIN:STANDARD
DTSTART:20251026T010000
TZOFFSETFROM:+0200
TZOFFSETTO:+0100
TZNAME:CET
END:STANDARD
BEGIN:STANDARD
DTSTART:20261025T010000
TZOFFSETFROM:+0200
TZOFFSETTO:+0100
TZNAME:CET
END:STANDARD
BEGIN:DAYLIGHT
DTSTART:20260329T010000
TZOFFSETFROM:+0100
TZOFFSETTO:+0200
TZNAME:CEST
END:DAYLIGHT
END:VTIMEZONE
X-WR-TIMEZONE:Europe/Berlin
BEGIN:VEVENT
DTSTART;TZID=Europe/Berlin:20251022T183000
DTEND;TZID=Europe/Berlin:20251022T193000
RRULE:FREQ=WEEKLY;INTERVAL=1;UNTIL=20251029T235900Z
UID:436F7BC7-F2B1-4A7A-BF5F-F789739BD8AD
SUMMARY:Taekwon-Do: alle Altersgruppen (Ferien)
CREATED:20251008T051229Z
DTSTAMP:20251008T051229Z
URL:https://www.kodokan.info/index.php/component/dpcalendar/event/4304?calid=75
LAST-MODIFIED:20251012T121639Z
SEQUENCE:371050
LOCATION:Am Exerzierplatz 28\, 22844 Norderstedt\, Schleswig-Holstein\, Deutschland
GEO:53.70069600;10.01187370
X-LOCATION-DISPLAYNAME:Dojo 1
X-ACCESS:1
X-HITS:2
X-COLOR:00bbff
X-SHOW-END-TIME:1
END:VEVENT
BEGIN:VEVENT
DTSTART;TZID=Europe/Berlin:20251024T183000
DTEND;TZID=Europe/Berlin:20251024T193000
UID:2970F02F-6BDC-4A94-AEF0-2E11F140DAC5
SUMMARY:Taekwon-Do: alle Altersgruppen (Ferien)
CREATED:20251008T051434Z
DTSTAMP:20251008T051434Z
URL:https://www.kodokan.info/index.php/component/dpcalendar/event/4307?calid=75
LAST-MODIFIED:20251012T115730Z
SEQUENCE:369776
LOCATION:Am Exerzierplatz 28\, 22844 Norderstedt\, Schleswig-Holstein\, Deutschland
GEO:53.70069600;10.01187370
X-LOCATION-DISPLAYNAME:Dojo 1
X-ACCESS:1
X-HITS:322
X-COLOR:00bbff
X-SHOW-END-TIME:1
END:VEVENT
BEGIN:VEVENT
DTSTART;TZID=Europe/Berlin:20251030T183000
DTEND;TZID=Europe/Berlin:20251030T193000
UID:AA69CDBF-A35E-4B4F-8F46-F5A2B96A10B2
SUMMARY:Taekwon-Do: alle Altersgruppen (Ferien)
CREATED:20251012T120311Z
DTSTAMP:20251012T120311Z
URL:https://www.kodokan.info/index.php/component/dpcalendar/event/4309?calid=75
LAST-MODIFIED:20251012T120311Z
SEQUENCE:0
LOCATION:Am Exerzierplatz 28\, 22844 Norderstedt\, Schleswig-Holstein\, Deutschland
GEO:53.70069600;10.01187370
X-LOCATION-DISPLAYNAME:Dojo 1
X-ACCESS:1
X-HITS:175
X-COLOR:00bbff
X-SHOW-END-TIME:1
END:VEVENT
END:VCALENDAR