BEGIN:VCALENDAR
VERSION:2.0
PRODID:DPCALENDAR
CALSCALE:GREGORIAN
BEGIN:VTIMEZONE
TZID:Europe/Berlin
X-MICROSOFT-CDO-TZID:4
BEGIN:STANDARD
DTSTART:20251026T010000
TZOFFSETFROM:+0200
TZOFFSETTO:+0100
TZNAME:CET
END:STANDARD
BEGIN:STANDARD
DTSTART:20261025T010000
TZOFFSETFROM:+0200
TZOFFSETTO:+0100
TZNAME:CET
END:STANDARD
BEGIN:DAYLIGHT
DTSTART:20260329T010000
TZOFFSETFROM:+0100
TZOFFSETTO:+0200
TZNAME:CEST
END:DAYLIGHT
END:VTIMEZONE
X-WR-TIMEZONE:Europe/Berlin
BEGIN:VEVENT
DTSTART;TZID=Europe/Berlin:20250712T163000
DTEND;TZID=Europe/Berlin:20250712T190000
UID:9C09D3AD-E280-4012-A27A-56FF687E2E54
SUMMARY:Verein: Spartenübergreifendes Training für Jugendliche von 13 bis 17 Jahren
CREATED:20250610T195128Z
DTSTAMP:20250610T195128Z
URL:https://www.kodokan.info/index.php/component/dpcalendar/event/546?calid=74
DESCRIPTION:wir bieten am 12.07.2025 im KODOKAN Dojo für die Jugendlichen von 13 bis 17 Jahren eine Trainingseinheit an, die aus aktionsreichen Aufwärmspielen besteht.\NZiel ist es, in der Altersgruppe spatenübergreifend Spaß zu haben - mit der Möglichkeit sich besser kennenzulernen.\NBeginn ist um 16:30Uhr \NEnde ca. 19:00 Uhr.\NAnmeldeschluss ist der 06.07.2025 \NAnmeldung: Per E-Mail an office@kodokan.info\NMitzubringen sind: Gi, Trinken und gute Laune.
X-ALT-DESC;FMTTYPE=text/html:<p>wir bieten am <strong>12.07.2025</strong> im KODOKAN Dojo für die Jugendlichen von 13 bis 17 Jahren eine Trainingseinheit an, die aus aktionsreichen Aufwärmspielen besteht.</p><p>Ziel ist es, in der Altersgruppe spatenübergreifend Spaß zu haben - mit der Möglichkeit sich besser kennenzulernen.</p><p>Beginn ist um 16:30Uhr&nbsp;</p><p>Ende ca. 19:00 Uhr.</p><p>Anmeldeschluss ist der 06.07.2025&nbsp;</p><p>Anmeldung: Per E-Mail an <a href="mailto:office@kodokan.info"></a><a href="mailto:office@kodokan.info">office@kodokan.info</a></p><p>Mitzubringen sind: Gi, Trinken und gute Laune.</p>
LAST-MODIFIED:20250610T201145Z
SEQUENCE:1217
LOCATION:Am Exerzierplatz 28\, 22844 Norderstedt\, Schleswig-Holstein\, Deutschland
GEO:53.70069600;10.01187370
X-LOCATION-DISPLAYNAME:Dojo 1-3
X-ACCESS:1
X-HITS:1023
X-COLOR:ff0000
X-SHOW-END-TIME:1
END:VEVENT
BEGIN:VEVENT
DTSTART;TZID=Europe/Berlin:20250725T180000
DTEND;TZID=Europe/Berlin:20250726T110000
UID:49D682DF-0C37-4A17-ACB0-E2C3A1C5DD7E
SUMMARY:Verein: Sommerübernachtung für Kinder 6-12 Jahre
CREATED:20250713T122412Z
DTSTAMP:20250713T122412Z
URL:https://www.kodokan.info/index.php/component/content/article/verein-sommer-uebernachtung-fuer-kinder-6-12-jahre-am-25-07-26-07-2025?catid=20
DESCRIPTION:Siehe Link
X-ALT-DESC;FMTTYPE=text/html:<p>Siehe Link</p>
LAST-MODIFIED:20250713T122412Z
SEQUENCE:0
X-ACCESS:1
X-HITS:1090
X-COLOR:ff0000
X-SHOW-END-TIME:1
END:VEVENT
BEGIN:VEVENT
DTSTART;TZID=Europe/Berlin:20251206T160000
DTEND;TZID=Europe/Berlin:20251206T180000
UID:BE6597AC-E4C3-48CC-BD0D-2362DEA67635
SUMMARY:#Save the Date - Kodokan - Weihnachtsfeier am 06.12.2025
CREATED:20251010T220000Z
DTSTAMP:20251010T220000Z
URL:https://kodokan.info/index.php/component/sppagebuilder/page/410
DESCRIPTION:Die Anmeldefrist (31.10.2025) ist bereits abgelaufen.Mehr seht ihr hier: \N https://kodokan.info/index.php/component/sppagebuilder/page/410
X-ALT-DESC;FMTTYPE=text/html:<p><strong><span style="color: #ff0000;">Die Anmeldefrist (31.10.2025) ist bereits abgelaufen.</span></strong><br /><br />Mehr seht ihr hier:&nbsp;</p><p>&nbsp;<a href="index.php/component/sppagebuilder/page/410">https://kodokan.info/index.php/component/sppagebuilder/page/410</a></p>
LAST-MODIFIED:20251101T004620Z
SEQUENCE:1824380
X-ACCESS:1
X-HITS:710
X-COLOR:3366cc
X-SHOW-END-TIME:1
X-PUBLISH-UP:2017-04-16 10:00:00
END:VEVENT
BEGIN:VEVENT
DTSTART;TZID=Europe/Berlin:20251212T173000
DTEND;TZID=Europe/Berlin:20251213T110000
UID:18F273C1-9C0A-4EF3-89CD-01F89C3DF777
SUMMARY:Winter-Übernachtung 12.12./13.12.2025 im Dojo für 6-12 Jahre
CREATED:20251201T202243Z
DTSTAMP:20251201T202243Z
URL:https://www.kodokan.info/index.php/component/dpcalendar/event/4724?calid=74
DESCRIPTION:Siehe auch:https://kodokan.info/index.php/component/content/article/winter-uebernachtung-12-12-13-12-2025-im-dojo?catid=20
X-ALT-DESC;FMTTYPE=text/html:<p>Siehe auch:<br /><a href="index.php/component/content/article/winter-uebernachtung-12-12-13-12-2025-im-dojo?catid=20">https://kodokan.info/index.php/component/content/article/winter-uebernachtung-12-12-13-12-2025-im-dojo?catid=20</a></p>
LAST-MODIFIED:20251201T202243Z
SEQUENCE:0
X-ACCESS:1
X-HITS:295
X-COLOR:3366cc
X-SHOW-END-TIME:1
END:VEVENT
BEGIN:VEVENT
DTSTART;TZID=Europe/Berlin:20260501T120000
DTEND;TZID=Europe/Berlin:20260501T170000
UID:EFA762D9-AE1E-4E5A-8BB6-EE85CE32AA37
SUMMARY:Kodokan: ParkSportTag - Parkerwachen 2026
CREATED:20251226T120749Z
DTSTAMP:20251226T120749Z
URL:https://www.kodokan.info/index.php/component/dpcalendar/event/4922?calid=74
DESCRIPTION:Wie im Jahr 2025 wollen wir auch in 2026 unsere Sparten auf dem ParkSportTag, im Rahmen der Veranstaltung "Park Erwachen" vorstellen. \NDetails folgen zu gegebener Zeit
X-ALT-DESC;FMTTYPE=text/html:<p>Wie im Jahr 2025 wollen wir auch in 2026 unsere Sparten auf dem ParkSportTag, im Rahmen der Veranstaltung "Park Erwachen" vorstellen.&nbsp;</p><p>Details folgen zu gegebener Zeit</p>
LAST-MODIFIED:20251226T121916Z
SEQUENCE:687
X-ACCESS:1
X-HITS:286
X-COLOR:3366cc
X-SHOW-END-TIME:1
END:VEVENT
BEGIN:VEVENT
DTSTART;VALUE=DATE:20260619
DTEND;VALUE=DATE:20260622
UID:534B8A3B-EEED-478D-BBA2-68D8C6B108EB
SUMMARY:Kodokan: Jugendfahrt 2026
CREATED:20260104T203916Z
DTSTAMP:20260104T203916Z
URL:https://www.kodokan.info/index.php/component/dpcalendar/event/4923?calid=74
DESCRIPTION:Liebe Eltern, liebe Vereinsmitglieder,\NKodokan e.V. bietet Euch 2026 ein Wochenende voller sportlichen Aktionen an. Es geht in eine Ferienanlage direkt an der Ostsee. Dort wollen wir die Sportmöglichkeiten voll ausnutzen, den Strand unsicher machen und wer kann und mag in der Ostsee schwimmen gehen.\NWann: 19. bis 21.06 2026 (Freitag bis Sonntag)\NWo: Ferienanlage Schönhagen (Strandstraße 1, 24398 Brodersby)\NFür wen: Mitglieder von 10 bis 16 Jahren\NKostenbeitrag: 85,00 Euro (beinhaltet zwei Übernachtungen plus Vollverpflegung und Nutzung der Sporträume)Über das Anmeldeformular können sich Interssierte Mitglieder anmelden. https://kodokan.info/index.php/veranstaltungen/jugendfahrt-2026
X-ALT-DESC;FMTTYPE=text/html:<p>Liebe Eltern, liebe Vereinsmitglieder,</p><p>Kodokan e.V. bietet Euch 2026 ein Wochenende voller sportlichen Aktionen an. Es geht in eine Ferienanlage direkt an der Ostsee. Dort wollen wir die Sportmöglichkeiten voll ausnutzen, den Strand unsicher machen und wer kann und mag in der Ostsee schwimmen gehen.</p><p>Wann: 19. bis 21.06 2026 (Freitag bis Sonntag)</p><p>Wo: Ferienanlage Schönhagen (Strandstraße 1, 24398 Brodersby)</p><p>Für wen: Mitglieder von 10 bis 16 Jahren</p><p>Kostenbeitrag: 85,00 Euro (beinhaltet zwei Übernachtungen plus Vollverpflegung und Nutzung der Sporträume)<br /><br /><br />Über das <a href="index.php/veranstaltungen/jugendfahrt-2026">Anmeldeformular</a>&nbsp;können sich Interssierte Mitglieder anmelden.&nbsp;<br /><br /><br /><a href="index.php/veranstaltungen/jugendfahrt-2026">https://kodokan.info/index.php/veranstaltungen/jugendfahrt-2026</a></p>
LAST-MODIFIED:20260225T060540Z
SEQUENCE:4440384
LOCATION:Strandstr. 1\, 24398 Schönhagen\, Schleswig-Holstein\, Deutschland
GEO:54.63214920;10.02504080
X-LOCATION-DISPLAYNAME:Ferienanlage Schönhagen 
X-ACCESS:1
X-HITS:134
X-COLOR:3366cc
X-SHOW-END-TIME:1
END:VEVENT
END:VCALENDAR