BEGIN:VCALENDAR
VERSION:2.0
PRODID:DPCALENDAR
CALSCALE:GREGORIAN
BEGIN:VTIMEZONE
TZID:Europe/Berlin
X-MICROSOFT-CDO-TZID:4
BEGIN:STANDARD
DTSTART:20251026T010000
TZOFFSETFROM:+0200
TZOFFSETTO:+0100
TZNAME:CET
END:STANDARD
BEGIN:STANDARD
DTSTART:20261025T010000
TZOFFSETFROM:+0200
TZOFFSETTO:+0100
TZNAME:CET
END:STANDARD
BEGIN:DAYLIGHT
DTSTART:20260329T010000
TZOFFSETFROM:+0100
TZOFFSETTO:+0200
TZNAME:CEST
END:DAYLIGHT
END:VTIMEZONE
X-WR-TIMEZONE:Europe/Berlin
BEGIN:VEVENT
DTSTART;TZID=Europe/Berlin:20260509T100000
DTEND;TZID=Europe/Berlin:20260509T130000
UID:D8FAF538-57E2-422B-B86B-5DD5FC52841C
SUMMARY:Krav Maga: Selbstverteidigungs-Seminar
CREATED:20260330T172525Z
DTSTAMP:20260330T172525Z
URL:https://kodokan.info/index.php/sportangebot/krav-maga/krav-maga-veranstaltungen/selbstverteidigungs-seminar-09-05-2026
DESCRIPTION:Mehr zum Krav Maga Selbstverteidigungs-Seminar findest Du hier. 
X-ALT-DESC;FMTTYPE=text/html:<p>Mehr zum Krav Maga Selbstverteidigungs-Seminar findest Du <a href="index.php/sportangebot/krav-maga/krav-maga-veranstaltungen/selbstverteidigungs-seminar-09-05-2026">hier</a>.&nbsp;</p>
LAST-MODIFIED:20260330T172650Z
SEQUENCE:85
LOCATION:Am Exerzierplatz 28\, 22844 Norderstedt\, Schleswig-Holstein\, Deutschland
GEO:53.70069600;10.01187370
X-LOCATION-DISPLAYNAME:Dojo 1-3
X-ACCESS:1
X-HITS:53
X-COLOR:5d45e6
X-SHOW-END-TIME:1
END:VEVENT
END:VCALENDAR