BEGIN:VCALENDAR
VERSION:2.0
PRODID:DPCALENDAR
CALSCALE:GREGORIAN
BEGIN:VTIMEZONE
TZID:Europe/Berlin
X-MICROSOFT-CDO-TZID:4
BEGIN:STANDARD
DTSTART:20251026T010000
TZOFFSETFROM:+0200
TZOFFSETTO:+0100
TZNAME:CET
END:STANDARD
BEGIN:STANDARD
DTSTART:20261025T010000
TZOFFSETFROM:+0200
TZOFFSETTO:+0100
TZNAME:CET
END:STANDARD
BEGIN:DAYLIGHT
DTSTART:20260329T010000
TZOFFSETFROM:+0100
TZOFFSETTO:+0200
TZNAME:CEST
END:DAYLIGHT
END:VTIMEZONE
X-WR-TIMEZONE:Europe/Berlin
BEGIN:VEVENT
DTSTART;VALUE=DATE:20260131
DTEND;VALUE=DATE:20260201
UID:33631F45-DD6A-4688-A049-DFBA92681EA3
SUMMARY:BJJ: Tap me if you can
CREATED:20260108T123416Z
DTSTAMP:20260108T123416Z
URL:https://www.kodokan.info/index.php/component/dpcalendar/event/4928?calid=67
DESCRIPTION:Wettkampf BJJ / Grappling
X-ALT-DESC;FMTTYPE=text/html:<p>Wettkampf BJJ / Grappling</p>
LAST-MODIFIED:20260108T123416Z
SEQUENCE:0
LOCATION:Kröpcke\, 30159 Hannover\, Niedersachsen\, Deutschland
GEO:52.37447790;9.73855320
X-LOCATION-DISPLAYNAME:Hannover
X-ACCESS:1
X-HITS:299
X-COLOR:00eeff
X-SHOW-END-TIME:1
END:VEVENT
BEGIN:VEVENT
DTSTART;VALUE=DATE:20260131
DTEND;VALUE=DATE:20260201
UID:03244BCE-3646-4060-A005-A95959ED3449
SUMMARY:BJJ: IPA Cup
CREATED:20260108T123851Z
DTSTAMP:20260108T123851Z
URL:https://www.kodokan.info/index.php/component/dpcalendar/event/4929?calid=67
DESCRIPTION:Wettkampf BJJ/ Grappling
X-ALT-DESC;FMTTYPE=text/html:<p>Wettkampf BJJ/ Grappling</p>
LAST-MODIFIED:20260108T123851Z
SEQUENCE:0
LOCATION:Jakobikirchhof 21\, 20095 Hamburg\, Deutschland
GEO:53.55034100;10.00065400
X-LOCATION-DISPLAYNAME:Hamburg
X-ACCESS:1
X-HITS:274
X-COLOR:00eeff
X-SHOW-END-TIME:1
END:VEVENT
BEGIN:VEVENT
DTSTART;VALUE=DATE:20260221
DTEND;VALUE=DATE:20260222
UID:FBD100F9-DE61-43A3-BB46-5B7AA64BF3AD
SUMMARY:BJJ: Grappling Industries
CREATED:20260112T201712Z
DTSTAMP:20260112T201712Z
URL:https://www.kodokan.info/index.php/component/dpcalendar/event/5042?calid=67
DESCRIPTION:Wettkampf BJJ/ Grappling
X-ALT-DESC;FMTTYPE=text/html:<p>Wettkampf BJJ/ Grappling</p>
LAST-MODIFIED:20260112T201712Z
SEQUENCE:0
LOCATION:Unter den Linden\, 10117 Berlin\, Deutschland
GEO:52.51738850;13.39513090
X-LOCATION-DISPLAYNAME:Berlin
X-ACCESS:1
X-HITS:181
X-COLOR:00eeff
X-SHOW-END-TIME:1
END:VEVENT
BEGIN:VEVENT
DTSTART;VALUE=DATE:20260221
DTEND;VALUE=DATE:20260222
UID:47E506BB-9931-4ABA-A424-F68128395722
SUMMARY:BJJ: AGF
CREATED:20260112T202053Z
DTSTAMP:20260112T202053Z
URL:https://www.kodokan.info/index.php/component/dpcalendar/event/5043?calid=67
DESCRIPTION:Wettkampf BJJ/ Grappling
X-ALT-DESC;FMTTYPE=text/html:<p>Wettkampf BJJ/ Grappling</p>
LAST-MODIFIED:20260112T202053Z
SEQUENCE:0
LOCATION:Am Markt 1\, 28195 Bremen\, Bremen\, Deutschland
GEO:53.07581960;8.80716460
X-LOCATION-DISPLAYNAME:Bremen
X-ACCESS:1
X-HITS:160
X-COLOR:00eeff
X-SHOW-END-TIME:1
END:VEVENT
BEGIN:VEVENT
DTSTART;VALUE=DATE:20260513
DTEND;VALUE=DATE:20260515
UID:FCDCFC92-349D-4156-9A65-B5FF09BE5AF4
SUMMARY:BJJ: Trainingslager
CREATED:20260112T203542Z
DTSTAMP:20260112T203542Z
URL:https://www.kodokan.info/index.php/component/dpcalendar/event/5052?calid=67
DESCRIPTION:Training Landeskader BJJ
X-ALT-DESC;FMTTYPE=text/html:<p>Training Landeskader BJJ</p>
LAST-MODIFIED:20260112T203542Z
SEQUENCE:0
LOCATION:Eutiner Straße 45\, 23714 Malente\, Schleswig-Holstein\, Deutschland
GEO:54.16369940;10.56292050
X-LOCATION-DISPLAYNAME:Sport- und Bildungszentrum Malente
X-ACCESS:1
X-HITS:147
X-COLOR:00eeff
X-SHOW-END-TIME:1
END:VEVENT
END:VCALENDAR