BEGIN:VCALENDAR
VERSION:2.0
PRODID:DPCALENDAR
CALSCALE:GREGORIAN
BEGIN:VTIMEZONE
TZID:Europe/Berlin
X-MICROSOFT-CDO-TZID:4
BEGIN:STANDARD
DTSTART:20251026T010000
TZOFFSETFROM:+0200
TZOFFSETTO:+0100
TZNAME:CET
END:STANDARD
BEGIN:STANDARD
DTSTART:20261025T010000
TZOFFSETFROM:+0200
TZOFFSETTO:+0100
TZNAME:CET
END:STANDARD
BEGIN:DAYLIGHT
DTSTART:20260329T010000
TZOFFSETFROM:+0100
TZOFFSETTO:+0200
TZNAME:CEST
END:DAYLIGHT
END:VTIMEZONE
X-WR-TIMEZONE:Europe/Berlin
BEGIN:VEVENT
DTSTART;VALUE=DATE:20260425
DTEND;VALUE=DATE:20260426
UID:8584C000-6679-47DC-934F-6BA1AAC4979C
SUMMARY:Ju-Jutsu: Landestechniklehrgang /-Prüfungsvorbereitung
CREATED:20260112T203251Z
DTSTAMP:20260112T203251Z
URL:https://www.kodokan.info/index.php/component/dpcalendar/event/5050?calid=63
DESCRIPTION:Techniklehrgang Ju-Jutsu
X-ALT-DESC;FMTTYPE=text/html:<p>Techniklehrgang Ju-Jutsu</p>
LAST-MODIFIED:20260112T203251Z
SEQUENCE:0
LOCATION:Am Exerzierplatz 28\, 22844 Norderstedt\, Schleswig-Holstein\, Deutschland
GEO:53.70069600;10.01187370
X-LOCATION-DISPLAYNAME:Dojo 1-3
X-ACCESS:1
X-HITS:130
X-COLOR:3366CC
X-SHOW-END-TIME:1
END:VEVENT
END:VCALENDAR